BEGIN:VCALENDAR
VERSION:2.0
PRODID:-//wp-events-plugin.com//6.6.4.4//EN
BEGIN:VEVENT
UID:40@karl-ers.fi
DTSTART;TZID=Europe/Mariehamn:20240430T180000
DTEND;TZID=Europe/Mariehamn:20240430T200000
DTSTAMP:20240425T081843Z
URL:https://karl-ers.fi/events/valborgsfirande/
SUMMARY:Valborgsfirande
DESCRIPTION:Vi firar valborg tillsammans med brasa\, om vädret tillåter\,
  och korvgrillning och mjöd som byalaget bjuder på.\n\nBarnen kan leka i
  vår nya sandlåda och pyssla majvippa om de vill.\n\nKom med och njut av
  byagemenskapen! Förra årets evenemang var välbesökt och riktigt gemyt
 ligt. Ta gärna med vänner och släktingar utifrån!\n\nI händelse av re
 gn\, ställs evenemanget in och i händelse av eldningsförbud\, grillar v
 i korv utan brasa.\n\nVarmt välkomna!
ATTACH;FMTTYPE=image/jpeg:https://karl-ers.fi/wp-content/uploads/2024/04/3
 43959402_530523989295457_3734588123703532276_n.jpg
CATEGORIES:Aktiviteter,Det händer 2024,Gratis inträde
LOCATION:https://www.google.com/maps/place/Karl-Ers+byag%C3%A5rd/@60.215771
 ,19.8531901,17z/data=!3m1!4b1!4m6!3m5!1s0x468aeba5ea010b45:0x9c86aeac8f374
 cc3!8m2!3d60.2157684!4d19.855765!16s%2Fg%2F11pd0m0r45?entry=ttu
END:VEVENT
BEGIN:VTIMEZONE
TZID:Europe/Mariehamn
X-LIC-LOCATION:Europe/Mariehamn
BEGIN:DAYLIGHT
DTSTART:20240331T040000
TZOFFSETFROM:+0200
TZOFFSETTO:+0300
TZNAME:EEST
END:DAYLIGHT
END:VTIMEZONE
END:VCALENDAR