BEGIN:VCALENDAR
VERSION:2.0
PRODID:-//wp-events-plugin.com//6.6.4.4//EN
BEGIN:VEVENT
UID:42@karl-ers.fi
DTSTART;TZID=Europe/Mariehamn:20240613T180000
DTEND;TZID=Europe/Mariehamn:20240613T200000
DTSTAMP:20240612T094254Z
URL:https://karl-ers.fi/events/talka-infor-midsommar/
SUMMARY:Talka inför midsommar
DESCRIPTION: MIDSOMMARTALKA Torsdag 13/6 kl. 18.00\n\nMidsommar närmar si
 g med stormsteg även om sommarens kanonväder drog sig lite tillbaka. På
  torsdag 13.6  kl. 18 hoppas vi kunna samla så många frivilliga händer
  som möjligt för att ge gården på Karl-Ers lite kärlek! \nDet finns b
 l.a. gräs som behöver röjas\, flaggstången väntar på ny lina och pav
 iljongen behöver sopas ur! Ta gärna med er de redskap ni har så hoppas 
 vi på en trevlig kväll tillsammans!\n\nVälkomna!
ATTACH;FMTTYPE=image/jpeg:https://karl-ers.fi/wp-content/uploads/2024/04/3
 46265876_794455441814408_161080975674181942_n.jpg
CATEGORIES:Aktiviteter,Det händer 2024
LOCATION:https://www.google.com/maps/place/Karl-Ers+byag%C3%A5rd/@60.215771
 ,19.8531901,17z/data=!3m1!4b1!4m6!3m5!1s0x468aeba5ea010b45:0x9c86aeac8f374
 cc3!8m2!3d60.2157684!4d19.855765!16s%2Fg%2F11pd0m0r45?entry=ttu
END:VEVENT
BEGIN:VTIMEZONE
TZID:Europe/Mariehamn
X-LIC-LOCATION:Europe/Mariehamn
BEGIN:DAYLIGHT
DTSTART:20240331T040000
TZOFFSETFROM:+0200
TZOFFSETTO:+0300
TZNAME:EEST
END:DAYLIGHT
END:VTIMEZONE
END:VCALENDAR