BEGIN:VCALENDAR
VERSION:2.0
PRODID:-//wp-events-plugin.com//6.6.4.4//EN
BEGIN:VEVENT
UID:31@karl-ers.fi
DTSTART;TZID=Europe/Mariehamn:20240421T130000
DTEND;TZID=Europe/Mariehamn:20240421T153000
DTSTAMP:20240407T181848Z
URL:https://karl-ers.fi/events/stadtalka-2/
SUMMARY:Städtalka
DESCRIPTION:Vi städar upp byagården på insidan och ansar träden på uts
 idan. Medtag gärna arbetsredskap och eget fika!\n\nDet här ska göras:\n
 \n 	dammsugas och torkas golv\n 	dammtorka öppna ytor\, innerväggar och 
 innertak\n 	tvättas fönster\, in- och utsida\n 	torka skåp in- och utv
 ändigt\n 	diska upp allt i köksskåpen\n 	städa toaletterna\n 	damma av
  och vädra textilierna i salen\n 	beskära träd på gården\n 	övrigt\n
CATEGORIES:Aktiviteter,Det händer 2024,Gratis inträde
LOCATION:https://www.google.com/maps/place/Karl-Ers+byag%C3%A5rd/@60.215771
 ,19.8531901,17z/data=!3m1!4b1!4m6!3m5!1s0x468aeba5ea010b45:0x9c86aeac8f374
 cc3!8m2!3d60.2157684!4d19.855765!16s%2Fg%2F11pd0m0r45?entry=ttu
END:VEVENT
BEGIN:VTIMEZONE
TZID:Europe/Mariehamn
X-LIC-LOCATION:Europe/Mariehamn
BEGIN:DAYLIGHT
DTSTART:20240331T040000
TZOFFSETFROM:+0200
TZOFFSETTO:+0300
TZNAME:EEST
END:DAYLIGHT
END:VTIMEZONE
END:VCALENDAR