BEGIN:VCALENDAR
VERSION:2.0
PRODID:-//wp-events-plugin.com//6.6.4.4//EN
BEGIN:VEVENT
UID:24@karl-ers.fi
DTSTART;TZID=Europe/Mariehamn:20230728T193000
DTEND;TZID=Europe/Mariehamn:20230728T230000
DTSTAMP:20230810T191450Z
URL:https://karl-ers.fi/events/sommardans-med-hannu-karlsson-2023-07-28/
SUMMARY:Sommardans med Hannu Karlsson
DESCRIPTION:Hannu Karlsson bjuder in till dans på Karl-Ers byagård!\n\nDe
 t blir dans alla fredagar kl. 19.30- ca 23.00 och fortsätter till sista f
 redagen i augusti\, med uppehåll den 11.8 p.g.a. Kulturnatten som anordna
 s i Mariehamn.\n\nDansen är ute på dansbanan som har tak.\n\nTa gärna m
 ed egen vattenflaska\, picknick och ev myggspray.\n\nFrivillig deltagaravg
 ift.\n\nHannu hälsar alla med dansglada fötter varmt välkomna!
ATTACH;FMTTYPE=image/jpeg:https://karl-ers.fi/wp-content/uploads/2023/07/3
 52323103_219486087545989_3949392649763305259_n.jpg
CATEGORIES:Det händer 2023,Gratis inträde,Utomstående arrangör
LOCATION:https://www.google.com/maps/place/Karl-Ers+byag%C3%A5rd/@60.215771
 ,19.8531901,17z/data=!3m1!4b1!4m6!3m5!1s0x468aeba5ea010b45:0x9c86aeac8f374
 cc3!8m2!3d60.2157684!4d19.855765!16s%2Fg%2F11pd0m0r45?entry=ttu
END:VEVENT
BEGIN:VTIMEZONE
TZID:Europe/Mariehamn
X-LIC-LOCATION:Europe/Mariehamn
BEGIN:DAYLIGHT
DTSTART:20230326T040000
TZOFFSETFROM:+0200
TZOFFSETTO:+0300
TZNAME:EEST
END:DAYLIGHT
END:VTIMEZONE
END:VCALENDAR