BEGIN:VCALENDAR
VERSION:2.0
PRODID:-//wp-events-plugin.com//6.6.4.4//EN
BEGIN:VEVENT
UID:56@karl-ers.fi
DTSTART;TZID=Europe/Mariehamn;VALUE=DATE:20250207
DTEND;TZID=Europe/Mariehamn;VALUE=DATE:20250210
DTSTAMP:20250329T172349Z
URL:https://karl-ers.fi/events/privat-bokning/
SUMMARY:Privat bokning
DESCRIPTION:Byagården är uthyrd.
CATEGORIES:Privat uthyrning
END:VEVENT
BEGIN:VTIMEZONE
TZID:Europe/Mariehamn
X-LIC-LOCATION:Europe/Mariehamn
BEGIN:STANDARD
DTSTART:20241027T030000
TZOFFSETFROM:+0300
TZOFFSETTO:+0200
TZNAME:EET
END:STANDARD
END:VTIMEZONE
END:VCALENDAR