BEGIN:VCALENDAR
VERSION:2.0
PRODID:-//wp-events-plugin.com//6.6.4.4//EN
BEGIN:VEVENT
UID:62@karl-ers.fi
DTSTART;TZID=Europe/Mariehamn;VALUE=DATE:20250608
DTEND;TZID=Europe/Mariehamn;VALUE=DATE:20250609
DTSTAMP:20250329T172717Z
URL:https://karl-ers.fi/events/privat-bokning-6/
SUMMARY:Privat bokning
DESCRIPTION:Byagården är uthyrd.
CATEGORIES:Privat uthyrning
END:VEVENT
BEGIN:VTIMEZONE
TZID:Europe/Mariehamn
X-LIC-LOCATION:Europe/Mariehamn
BEGIN:DAYLIGHT
DTSTART:20250330T040000
TZOFFSETFROM:+0200
TZOFFSETTO:+0300
TZNAME:EEST
END:DAYLIGHT
END:VTIMEZONE
END:VCALENDAR