BEGIN:VCALENDAR
VERSION:2.0
PRODID:-//wp-events-plugin.com//6.6.4.4//EN
BEGIN:VEVENT
UID:65@karl-ers.fi
DTSTART;TZID=Europe/Mariehamn:20250529T130000
DTEND;TZID=Europe/Mariehamn:20250529T150000
DTSTAMP:20250523T184634Z
URL:https://karl-ers.fi/events/oppethus/
SUMMARY:Öppet hus
DESCRIPTION:Välkomna till Karl Ers Byagård på Öppet hus\nTorsdag 29 Maj
  kl 13-15.\n\nPå försäljarplats hittar ni:\nPia-Maria Lindén med handm
 ålade kort\, bokmärken mm\nHögvalla Hantverk\nSolbacka Smycken\nBamböl
 e Örtboden\nLinas Fina Ting\nProdukter från Bärlunds\nRigmor Johanssons
  Honung\nSamt Gunnevi Sjölunds Hantverk och plantor.\n\nVi kommer även h
 a loppisförsäljning\, ansiktsmålning för barn samt Kaffe försäljning
 !\n&nbsp\;\nVarmt välkomna!
ATTACH;FMTTYPE=image/jpeg:https://karl-ers.fi/wp-content/uploads/2023/07/2
 87329096_7497783990263440_3909210259818279603_n.jpg
CATEGORIES:Aktiviteter,Det händer 2025
LOCATION:https://www.google.com/maps/place/Karl-Ers+byag%C3%A5rd/@60.215771
 ,19.8531901,17z/data=!3m1!4b1!4m6!3m5!1s0x468aeba5ea010b45:0x9c86aeac8f374
 cc3!8m2!3d60.2157684!4d19.855765!16s%2Fg%2F11pd0m0r45?entry=ttu
END:VEVENT
BEGIN:VTIMEZONE
TZID:Europe/Mariehamn
X-LIC-LOCATION:Europe/Mariehamn
BEGIN:DAYLIGHT
DTSTART:20250330T040000
TZOFFSETFROM:+0200
TZOFFSETTO:+0300
TZNAME:EEST
END:DAYLIGHT
END:VTIMEZONE
END:VCALENDAR