BEGIN:VCALENDAR
VERSION:2.0
PRODID:-//wp-events-plugin.com//6.6.4.4//EN
BEGIN:VEVENT
UID:13@karl-ers.fi
DTSTART;TZID=Europe/Mariehamn:20230623T130000
DTEND;TZID=Europe/Mariehamn:20230623T160000
DTSTAMP:20230709T201425Z
URL:https://karl-ers.fi/events/midsommarfirande/
SUMMARY:Midsommarfirande
DESCRIPTION:Välkomna att fira midsommar vid Kars-Ers byagård!\n\n 	Kaffes
 ervering från kl. 13\n 	Kronprocessionen\, när vi tågar med kronorna fr
 am till midsommarstången\, kl. 13.30.\n 	Stången reses kl. 14. Ålännin
 gens sång och ringdans runt stången.\n\nMusik av Södra Finströms spelm
 än\, lotteri\, aktiviteter som tipsrunda för barn\, gå på styltor och 
 kasta hästsko\, spela mölkky\, kasta discgolf och spela krocket.\n\nVarm
 t välkomna!
ATTACH;FMTTYPE=image/jpeg:https://karl-ers.fi/wp-content/uploads/2023/07/3
 52398146_1172940763380601_1777344589256260169_n.jpg
CATEGORIES:Det händer 2023,Gratis inträde
LOCATION:https://www.google.com/maps/place/Karl-Ers+byag%C3%A5rd/@60.215771
 ,19.8531901,17z/data=!3m1!4b1!4m6!3m5!1s0x468aeba5ea010b45:0x9c86aeac8f374
 cc3!8m2!3d60.2157684!4d19.855765!16s%2Fg%2F11pd0m0r45?entry=ttu
END:VEVENT
BEGIN:VTIMEZONE
TZID:Europe/Mariehamn
X-LIC-LOCATION:Europe/Mariehamn
BEGIN:DAYLIGHT
DTSTART:20230326T040000
TZOFFSETFROM:+0200
TZOFFSETTO:+0300
TZNAME:EEST
END:DAYLIGHT
END:VTIMEZONE
END:VCALENDAR