BEGIN:VCALENDAR
VERSION:2.0
PRODID:-//wp-events-plugin.com//6.6.4.4//EN
BEGIN:VEVENT
UID:44@karl-ers.fi
DTSTART;TZID=Europe/Mariehamn:20240621T130000
DTEND;TZID=Europe/Mariehamn:20240621T150000
DTSTAMP:20240612T095538Z
URL:https://karl-ers.fi/events/midsommarafton-vid-karl-ers/
SUMMARY:Midsommarafton vid Karl-Ers
DESCRIPTION:Välkomna att fira midsommar vid Kars-Ers byagård!\n\n Från k
 l. 13\, kaffeservering inne i byagården.\n Kl. 13.30\, kronprocession til
 l toner av Södra Finströms spelmän. Kom med och bär fram kronorna till
  midsommarstången!\n Stången reses kl. 14 under ledning av Niclas Fagerl
 und och Erik Eriksson som stångkaptener\, med stöd av Sture Eriksson\, a
 vgående stångkapten.\n\nRingdans med Miina och Anette runt stången\, p
 å dragspel Buba Sjölund. Musik av Södra Finströms spelmän. Caféförs
 äljning\, lotteri (vinstdragning under tillställningen)\, barnaktivitete
 r som tipsrunda\, gå på styltor och kasta hästsko.\n\nVarmt välkomna!
ATTACH;FMTTYPE=image/jpeg:https://karl-ers.fi/wp-content/uploads/2023/07/2
 04484952_5655391447836046_3278384670968979732_n.jpg
CATEGORIES:Aktiviteter,Det händer 2024,Gratis inträde
LOCATION:https://www.google.com/maps/place/Karl-Ers+byag%C3%A5rd/@60.215771
 ,19.8531901,17z/data=!3m1!4b1!4m6!3m5!1s0x468aeba5ea010b45:0x9c86aeac8f374
 cc3!8m2!3d60.2157684!4d19.855765!16s%2Fg%2F11pd0m0r45?entry=ttu
END:VEVENT
BEGIN:VTIMEZONE
TZID:Europe/Mariehamn
X-LIC-LOCATION:Europe/Mariehamn
BEGIN:DAYLIGHT
DTSTART:20240331T040000
TZOFFSETFROM:+0200
TZOFFSETTO:+0300
TZNAME:EEST
END:DAYLIGHT
END:VTIMEZONE
END:VCALENDAR