BEGIN:VCALENDAR
VERSION:2.0
PRODID:-//wp-events-plugin.com//6.6.4.4//EN
BEGIN:VEVENT
UID:68@karl-ers.fi
DTSTART;TZID=Europe/Mariehamn:20250620T130000
DTEND;TZID=Europe/Mariehamn:20250620T153000
DTSTAMP:20250525T184532Z
URL:https://karl-ers.fi/events/midsommarafton-vid-karl-ers-2/
SUMMARY:Midsommarafton vid Karl-Ers
DESCRIPTION:Välkomna att fira midsommar vid Kars-Ers byagård!\n&nbsp\;\nK
 l. 13.00-15.00 Caféet öppet inne i byagården.\n\nKl. 13.30 kronprocessi
 on till toner av Södra Finströms spelmän.\nKom med och bär fram kronor
 na till midsommarstången!\n\nKl. 14.00 Stången reses. Stångkapten Erik 
 Eriksson och Niclas Fagerlund\nRingdans runt stången med Erica Ponthin. M
 usik av Södra Finströms spelmän.\n&nbsp\;\nFINNS OCKSÅ\n\nLotteri (vin
 stdragning under tillställningen)\n\nBarnaktiviteter som tipsrunda\, gå 
 på styltor\, kasta hästsko och trädgårdsspel!\n\n\n&nbsp\;\nVarmt väl
 komna!\n&nbsp\;\n\n
ATTACH;FMTTYPE=image/jpeg:https://karl-ers.fi/wp-content/uploads/2025/05/m
 idsommar2MJ-scaled.jpeg
CATEGORIES:Aktiviteter,Det händer 2025,Gratis inträde
LOCATION:https://www.google.com/maps/place/Karl-Ers+byag%C3%A5rd/@60.215771
 ,19.8531901,17z/data=!3m1!4b1!4m6!3m5!1s0x468aeba5ea010b45:0x9c86aeac8f374
 cc3!8m2!3d60.2157684!4d19.855765!16s%2Fg%2F11pd0m0r45?entry=ttu
END:VEVENT
BEGIN:VTIMEZONE
TZID:Europe/Mariehamn
X-LIC-LOCATION:Europe/Mariehamn
BEGIN:DAYLIGHT
DTSTART:20250330T040000
TZOFFSETFROM:+0200
TZOFFSETTO:+0300
TZNAME:EEST
END:DAYLIGHT
END:VTIMEZONE
END:VCALENDAR