BEGIN:VCALENDAR
VERSION:2.0
PRODID:-//wp-events-plugin.com//6.6.4.4//EN
BEGIN:VEVENT
UID:69@karl-ers.fi
DTSTART;TZID=Europe/Mariehamn:20250619T183000
DTEND;TZID=Europe/Mariehamn:20250619T210000
DTSTAMP:20250525T191650Z
URL:https://karl-ers.fi/events/lovning-av-midsommarstangen-3/
SUMMARY:Lövning av midsommarstången
DESCRIPTION:Välkomna med och fixa lövgirlanger till midsommarstången.\nT
 ID: 18.30 - 21.00\nInga förkunskaper krävs\, vi visar på plats hur det 
 går till!\n\nVi binder även 3 större blomkransar som ska fästas vid mi
 dsommarstången. Ta gärna med en bukett sommarblommor till kransarna så 
 vi har att börja med\, resten plockar vi på plats.\n&nbsp\;\nEfteråt bj
 uder byalaget på korv!\n\n&nbsp\;\nVarmt välkomna!
ATTACH;FMTTYPE=image/jpeg:https://karl-ers.fi/wp-content/uploads/2023/07/3
 47624114_699794885522967_8518970405096543199_n.jpg
CATEGORIES:Aktiviteter,Det händer 2025
LOCATION:https://www.google.com/maps/place/Karl-Ers+byag%C3%A5rd/@60.215771
 ,19.8531901,17z/data=!3m1!4b1!4m6!3m5!1s0x468aeba5ea010b45:0x9c86aeac8f374
 cc3!8m2!3d60.2157684!4d19.855765!16s%2Fg%2F11pd0m0r45?entry=ttu
END:VEVENT
BEGIN:VTIMEZONE
TZID:Europe/Mariehamn
X-LIC-LOCATION:Europe/Mariehamn
BEGIN:DAYLIGHT
DTSTART:20250330T040000
TZOFFSETFROM:+0200
TZOFFSETTO:+0300
TZNAME:EEST
END:DAYLIGHT
END:VTIMEZONE
END:VCALENDAR