BEGIN:VCALENDAR
VERSION:2.0
PRODID:-//wp-events-plugin.com//6.6.4.4//EN
BEGIN:VEVENT
UID:47@karl-ers.fi
DTSTART;TZID=Europe/Mariehamn:20250507T180000
DTEND;TZID=Europe/Mariehamn:20250507T193000
DTSTAMP:20250329T161254Z
URL:https://karl-ers.fi/events/krontalka-6/
SUMMARY:Krontalka
DESCRIPTION:Allt silkespapper är nu veckat så vi fortsätter förberedels
 erna av årets midsommarkronor med att klä av och på kronornas stommar.\
 n\nBeroende på värdet\, kan vi vara inomhus om så kräver\, men klä di
 g ändå varmt\, för säkerhets skull\, ifall vi är utomhus!\n\nSprid g
 ärna denna info vidare till nära och kära som eventuellt kan vara intre
 sserade. Aktiviteten passar även för lite äldre barn. Inga förkunskape
 r behövs\, vi visar på plats hur det går till.\n\nVarmt välkomna!
ATTACH;FMTTYPE=image/jpeg:https://karl-ers.fi/wp-content/uploads/2024/04/3
 47235399_623142402769402_804416812077028665_n.jpg
CATEGORIES:Aktiviteter,Det händer 2025
LOCATION:https://www.google.com/maps/place/Karl-Ers+byag%C3%A5rd/@60.215771
 ,19.8531901,17z/data=!3m1!4b1!4m6!3m5!1s0x468aeba5ea010b45:0x9c86aeac8f374
 cc3!8m2!3d60.2157684!4d19.855765!16s%2Fg%2F11pd0m0r45?entry=ttu
END:VEVENT
BEGIN:VTIMEZONE
TZID:Europe/Mariehamn
X-LIC-LOCATION:Europe/Mariehamn
BEGIN:DAYLIGHT
DTSTART:20250330T040000
TZOFFSETFROM:+0200
TZOFFSETTO:+0300
TZNAME:EEST
END:DAYLIGHT
END:VTIMEZONE
END:VCALENDAR