BEGIN:VCALENDAR
VERSION:2.0
PRODID:-//wp-events-plugin.com//6.6.4.4//EN
BEGIN:VEVENT
UID:71@karl-ers.fi
DTSTART;TZID=Europe/Mariehamn:20251206T160000
DTEND;TZID=Europe/Mariehamn:20251206T190000
DTSTAMP:20251029T062114Z
URL:https://karl-ers.fi/events/julmarknad/
SUMMARY:Julmarknad
DESCRIPTION:Kom i julstämning med julmarknad på Kar-Ers\nLördag 6.12 Kl.
  16.00-19.00\nFörsäljning av kransar\, hembakat\, hantverk m.m.\n\nCafé
 et är öppet.\n\nÄr du intresserad av att delta i julmarknaden som förs
 äljare?\nAnmäl ditt intresse till: karlers.byalag@gmail.com\nVälkomna!\
 n&nbsp\;
ATTACH;FMTTYPE=image/jpeg:https://karl-ers.fi/wp-content/uploads/2023/07/2
 64708773_6510684512306731_8233869683305359763_n.jpg
CATEGORIES:Det händer 2025,Gratis inträde,Marknadsförsäljning
LOCATION:https://www.google.com/maps/place/Karl-Ers+byag%C3%A5rd/@60.215771
 ,19.8531901,17z/data=!3m1!4b1!4m6!3m5!1s0x468aeba5ea010b45:0x9c86aeac8f374
 cc3!8m2!3d60.2157684!4d19.855765!16s%2Fg%2F11pd0m0r45?entry=ttu
END:VEVENT
BEGIN:VTIMEZONE
TZID:Europe/Mariehamn
X-LIC-LOCATION:Europe/Mariehamn
BEGIN:STANDARD
DTSTART:20251026T030000
TZOFFSETFROM:+0300
TZOFFSETTO:+0200
TZNAME:EET
END:STANDARD
END:VTIMEZONE
END:VCALENDAR