BEGIN:VCALENDAR
VERSION:2.0
PRODID:-//wp-events-plugin.com//6.6.4.4//EN
BEGIN:VEVENT
UID:15@karl-ers.fi
DTSTART;TZID=Europe/Mariehamn:20230207T180000
DTEND;TZID=Europe/Mariehamn:20230207T190000
DTSTAMP:20230709T203112Z
URL:https://karl-ers.fi/events/hamtning-av-silkespapper/
SUMMARY:Hämtning av silkespapper
DESCRIPTION:Vi kör igång med förberedelserna av årets midsommarkronor!\
 n\nÄven i år delar vi ut silkespapper så man får vecka hemma och utdel
 ning av papper sker tisdagen den 7.2 mellan kl. 18-19 på Karl-ers.\n\nVi 
 som är på plats kan visa hur det går till om man inte veckat tidigare. 
 Om man inte har möjlighet att hämta den kvällen kan man kontakta Julia 
 +3584573420929 och komma överens om annan tidpunkt.\n\nTack på förhand 
 till alla som kan hjälpa till!\n\nSprid gärna denna information till de 
 som inte har Facebook.
ATTACH;FMTTYPE=image/jpeg:https://karl-ers.fi/wp-content/uploads/2023/07/3
 29345184_3337912546467851_3876336554837294878_n.jpg
CATEGORIES:Aktiviteter,Det händer 2023
LOCATION:https://www.google.com/maps/place/Karl-Ers+byag%C3%A5rd/@60.215771
 ,19.8531901,17z/data=!3m1!4b1!4m6!3m5!1s0x468aeba5ea010b45:0x9c86aeac8f374
 cc3!8m2!3d60.2157684!4d19.855765!16s%2Fg%2F11pd0m0r45?entry=ttu
END:VEVENT
BEGIN:VTIMEZONE
TZID:Europe/Mariehamn
X-LIC-LOCATION:Europe/Mariehamn
BEGIN:STANDARD
DTSTART:20221030T030000
TZOFFSETFROM:+0300
TZOFFSETTO:+0200
TZNAME:EET
END:STANDARD
END:VTIMEZONE
END:VCALENDAR