BEGIN:VCALENDAR
VERSION:2.0
PRODID:-//wp-events-plugin.com//6.6.4.4//EN
BEGIN:VEVENT
UID:46@karl-ers.fi
DTSTART;TZID=Europe/Mariehamn:20250507T180000
DTEND;TZID=Europe/Mariehamn:20250507T200000
DTSTAMP:20250329T161337Z
URL:https://karl-ers.fi/events/gardstalka-2/
SUMMARY:Gårdstalka
DESCRIPTION:Nu är det dags att snygga till gården på Karl-Ers! Vi kratta
 r löv\, tvättar fönstren på paviljongen\, snyggar till träd och buska
  och övriga planteringar. Ta med räfsor\, sekatörer\, skottkärra\, fö
 nsterputs och annat som kan tänkas behövas! Kom med i byagemenskapen och
  hjälp oss hålla i gång vår fina gård! Byalaget bjuder på grillad ko
 rv.
ATTACH;FMTTYPE=image/jpeg:https://karl-ers.fi/wp-content/uploads/2024/04/3
 46265876_794455441814408_161080975674181942_n.jpg
CATEGORIES:Aktiviteter,Det händer 2025
LOCATION:https://www.google.com/maps/place/Karl-Ers+byag%C3%A5rd/@60.215771
 ,19.8531901,17z/data=!3m1!4b1!4m6!3m5!1s0x468aeba5ea010b45:0x9c86aeac8f374
 cc3!8m2!3d60.2157684!4d19.855765!16s%2Fg%2F11pd0m0r45?entry=ttu
END:VEVENT
BEGIN:VTIMEZONE
TZID:Europe/Mariehamn
X-LIC-LOCATION:Europe/Mariehamn
BEGIN:DAYLIGHT
DTSTART:20250330T040000
TZOFFSETFROM:+0200
TZOFFSETTO:+0300
TZNAME:EEST
END:DAYLIGHT
END:VTIMEZONE
END:VCALENDAR