BEGIN:VCALENDAR
VERSION:2.0
PRODID:-//wp-events-plugin.com//6.6.4.4//EN
BEGIN:VEVENT
UID:12@karl-ers.fi
DTSTART;TZID=Europe/Mariehamn:20230702T140000
DTEND;TZID=Europe/Mariehamn:20230702T153000
DTSTAMP:20230709T195752Z
URL:https://karl-ers.fi/events/friluftsgudstjanst/
SUMMARY:Friluftsgudstjänst
DESCRIPTION:Friluftsgudstjänst av Norra Ålands församling\, med Kim Rant
 ala och Kjell Frisk.\n\nFemte söndagen efter pingst. Var barmhärtiga.\n\
 nByalaget serverar kyrkkaffe efter gudstjänsten.\nVälkomna!
ATTACH;FMTTYPE=image/jpeg:https://karl-ers.fi/wp-content/uploads/2023/07/3
 55154269_706878948147894_5854549867585089874_n.jpg
CATEGORIES:Det händer 2023,Gratis inträde,Utomstående arrangör
LOCATION:https://www.google.com/maps/place/Karl-Ers+byag%C3%A5rd/@60.215771
 ,19.8531901,17z/data=!3m1!4b1!4m6!3m5!1s0x468aeba5ea010b45:0x9c86aeac8f374
 cc3!8m2!3d60.2157684!4d19.855765!16s%2Fg%2F11pd0m0r45?entry=ttu
END:VEVENT
BEGIN:VTIMEZONE
TZID:Europe/Mariehamn
X-LIC-LOCATION:Europe/Mariehamn
BEGIN:DAYLIGHT
DTSTART:20230326T040000
TZOFFSETFROM:+0200
TZOFFSETTO:+0300
TZNAME:EEST
END:DAYLIGHT
END:VTIMEZONE
END:VCALENDAR