BEGIN:VCALENDAR
VERSION:2.0
PRODID:-//wp-events-plugin.com//6.6.4.4//EN
BEGIN:VEVENT
UID:70@karl-ers.fi
DTSTART;TZID=Europe/Mariehamn:20251115T130000
DTEND;TZID=Europe/Mariehamn:20251115T160000
DTSTAMP:20251029T061335Z
URL:https://karl-ers.fi/events/familjedag/
SUMMARY:Familjedag!
DESCRIPTION:Lördag den 15.11 är det familjedag på Karl-Ers.\nKl. 13.00-1
 6.00\nTa med familjen och spela spel\, rita eller bara umgås!\nCaféet ä
 r öppet.\nVälkomna!\n&nbsp\;
ATTACH;FMTTYPE=image/jpeg:https://karl-ers.fi/wp-content/uploads/2023/07/2
 47388038_6269416009766917_8757061943856106853_n.jpg
CATEGORIES:Aktiviteter,Det händer 2025,Gratis inträde
LOCATION:https://www.google.com/maps/place/Karl-Ers+byag%C3%A5rd/@60.215771
 ,19.8531901,17z/data=!3m1!4b1!4m6!3m5!1s0x468aeba5ea010b45:0x9c86aeac8f374
 cc3!8m2!3d60.2157684!4d19.855765!16s%2Fg%2F11pd0m0r45?entry=ttu
END:VEVENT
BEGIN:VTIMEZONE
TZID:Europe/Mariehamn
X-LIC-LOCATION:Europe/Mariehamn
BEGIN:STANDARD
DTSTART:20251026T030000
TZOFFSETFROM:+0300
TZOFFSETTO:+0200
TZNAME:EET
END:STANDARD
END:VTIMEZONE
END:VCALENDAR