BEGIN:VCALENDAR
VERSION:2.0
PRODID:-//wp-events-plugin.com//6.6.4.4//EN
BEGIN:VEVENT
UID:33@karl-ers.fi
DTSTART;TZID=Europe/Mariehamn;VALUE=DATE:20240428
DTEND;TZID=Europe/Mariehamn;VALUE=DATE:20240429
DTSTAMP:20240407T182551Z
URL:https://karl-ers.fi/events/byastadning/
SUMMARY:Byastädning
DESCRIPTION:Byalaget utmanar alla att städa i byarna söndagen den 28 apri
 l!\n\nTa en kasse och plocka skräp längs vägar och i diken på egen han
 d i byarna (Emkarby\, Kulla\, Bjärström\, Bamböle och Bergö)!\n\nNär 
 man är färdig läggs kassen ut synligt längs med Emkarbyvägen och Svar
 tsmaravägen (innan kl. 21)\, så hämtar byalaget upp det (vi kör från 
 gränsen till Jomala\, via gränsen till Hammarland och sedan till vägsk
 älet ner till Bergö). Man får givetvis föra soporna direkt till Karl-e
 rs byagård i Bjärström\, om man så önskar.\n\nSamtidigt som man rör 
 på sig gör man en god gärning för miljön. Hoppas många vill delta!
ATTACH;FMTTYPE=image/jpeg:https://karl-ers.fi/wp-content/uploads/2024/04/3
 42222658_553630933573140_5897111471702921447_n-e1712514327891.jpg
CATEGORIES:Det händer 2024
END:VEVENT
BEGIN:VTIMEZONE
TZID:Europe/Mariehamn
X-LIC-LOCATION:Europe/Mariehamn
BEGIN:DAYLIGHT
DTSTART:20240331T040000
TZOFFSETFROM:+0200
TZOFFSETTO:+0300
TZNAME:EEST
END:DAYLIGHT
END:VTIMEZONE
END:VCALENDAR