BEGIN:VCALENDAR
VERSION:2.0
PRODID:-//wp-events-plugin.com//6.6.4.4//EN
BEGIN:VEVENT
UID:54@karl-ers.fi
DTSTART;TZID=Europe/Mariehamn;VALUE=DATE:20250427
DTEND;TZID=Europe/Mariehamn;VALUE=DATE:20250428
DTSTAMP:20250329T162537Z
URL:https://karl-ers.fi/events/byastadning-2/
SUMMARY:Byastädning
DESCRIPTION:Byalaget utmanar alla att städa i byarna söndagen den 27 apri
 l!\n\nTa en kasse och plocka skräp längs vägar och i diken på egen han
 d i byarna (Emkarby\, Kulla\, Bjärström\, Bamböle och Bergö)!\n\nNär 
 man är färdig för man själv soporna till Karl-ers byagård i Bjärstr
 öm på baksidan där soptunnor finns\, utanför köksingången.\n\nSamtid
 igt som man rör på sig gör man en god gärning för miljön. Hoppas må
 nga vill delta!
ATTACH;FMTTYPE=image/jpeg:https://karl-ers.fi/wp-content/uploads/2025/03/4
 87415079_970047011944894_19039594022488022_n.jpg
CATEGORIES:Det händer 2025
END:VEVENT
BEGIN:VTIMEZONE
TZID:Europe/Mariehamn
X-LIC-LOCATION:Europe/Mariehamn
BEGIN:DAYLIGHT
DTSTART:20250330T040000
TZOFFSETFROM:+0200
TZOFFSETTO:+0300
TZNAME:EEST
END:DAYLIGHT
END:VTIMEZONE
END:VCALENDAR