BEGIN:VCALENDAR
VERSION:2.0
PRODID:-//wp-events-plugin.com//6.6.4.4//EN
BEGIN:VEVENT
UID:55@karl-ers.fi
DTSTART;TZID=Europe/Mariehamn:20250422T190000
DTEND;TZID=Europe/Mariehamn:20250422T200000
DTSTAMP:20250329T162912Z
URL:https://karl-ers.fi/events/arsmote-2/
SUMMARY:Årsmöte
DESCRIPTION:Välkommen på årsmöte för Södra Finströms byalag tisdagen
  den 22.4 kl. 19 på Karl-Ers!\n\nStadgeenliga handlingar.\n\nByalaget bju
 der på fika.
ATTACH;FMTTYPE=image/jpeg:https://karl-ers.fi/wp-content/uploads/2023/07/4
 2304062_2199740910067801_5806349751838310400_n.jpg
CATEGORIES:Det händer 2025,Medlemsmöte
LOCATION:https://www.google.com/maps/place/Karl-Ers+byag%C3%A5rd/@60.215771
 ,19.8531901,17z/data=!3m1!4b1!4m6!3m5!1s0x468aeba5ea010b45:0x9c86aeac8f374
 cc3!8m2!3d60.2157684!4d19.855765!16s%2Fg%2F11pd0m0r45?entry=ttu
END:VEVENT
BEGIN:VTIMEZONE
TZID:Europe/Mariehamn
X-LIC-LOCATION:Europe/Mariehamn
BEGIN:DAYLIGHT
DTSTART:20250330T040000
TZOFFSETFROM:+0200
TZOFFSETTO:+0300
TZNAME:EEST
END:DAYLIGHT
END:VTIMEZONE
END:VCALENDAR