BEGIN:VCALENDAR
VERSION:2.0
PRODID:-//wp-events-plugin.com//6.6.4.4//EN
BEGIN:VEVENT
UID:1@karl-ers.fi
DTSTART;TZID=Europe/Helsinki:20230712T190000
DTEND;TZID=Europe/Helsinki:20230712T203000
DTSTAMP:20230709T193623Z
URL:https://karl-ers.fi/events/allsang-i-sommarkvallen/
SUMMARY:Allsång i sommarkvällen
DESCRIPTION:Kom och sjung sommarsånger i trädgården på Karl-Ers byagår
 d i Bjärström! Allsången leds av Miina Fagerlund och i pausen bjuder by
 alaget på kaffe och saft.\n\nFritt inträde. Det finns möjlighet att und
 er kvällen lämna ett frivilligt bidrag till byalaget i kontanter.\n\nVi 
 sjunger för att det är roligt och alla är hjärtligt välkomna! Hur bra
  du sjunger spelar ingen roll! Du som fått höra att du inte kan sjunga 
 är extra varmt välkommen för att börja sjunga just denna kväll! Miina
  anser att alla kan sjunga\, så länge man sjunger med hjärtat!\n\nKansk
 e du tar med ditt instrument och spelar med? Eller kanske du till och med 
 vill spela något för oss? Du som är sugen på att sjunga själv eller s
 pela ett instrument och vill ha ackompanjemang till\, hör av dig till Mii
 na på miina@aland.net eller 04573425119 senast lördag 9 juli!\n\nI händ
 else av regn\, sjunger vi istället på dansbanan. Ta kläder efter väder
 !\nVarmt välkommen!
ATTACH;FMTTYPE=image/jpeg:https://karl-ers.fi/wp-content/uploads/2023/07/m
 an-g472d0aa52_1280.png
CATEGORIES:Det händer 2023,Gratis inträde
LOCATION:https://www.google.com/maps/place/Karl-Ers+byag%C3%A5rd/@60.215771
 ,19.8531901,17z/data=!3m1!4b1!4m6!3m5!1s0x468aeba5ea010b45:0x9c86aeac8f374
 cc3!8m2!3d60.2157684!4d19.855765!16s%2Fg%2F11pd0m0r45?entry=ttu
END:VEVENT
BEGIN:VTIMEZONE
TZID:Europe/Helsinki
X-LIC-LOCATION:Europe/Helsinki
BEGIN:DAYLIGHT
DTSTART:20230326T040000
TZOFFSETFROM:+0200
TZOFFSETTO:+0300
TZNAME:EEST
END:DAYLIGHT
END:VTIMEZONE
END:VCALENDAR